BEGIN:VCALENDAR
PRODID:-//github.com/rianjs/ical.net//NONSGML ical.net 4.0//EN
VERSION:2.0
BEGIN:VEVENT
DESCRIPTION:A Fashiontale
DTEND:20260429T000000
DTSTAMP:20260423T142257Z
DTSTART:20260429T000000
LOCATION:Ullevålsveien 05
SEQUENCE:0
SUMMARY:A Fashiontale
UID:d864216f-691c-4a64-b87d-f3c40ed571f6
END:VEVENT
END:VCALENDAR
