BEGIN:VCALENDAR
PRODID:-//github.com/rianjs/ical.net//NONSGML ical.net 4.0//EN
VERSION:2.0
BEGIN:VEVENT
DESCRIPTION:Munchelever og Songs in the Key of Life!
DTEND:20260429T000000
DTSTAMP:20260420T164913Z
DTSTART:20260429T000000
LOCATION:Riksscenen
SEQUENCE:0
SUMMARY:Munchelever og Songs in the Key of Life!
UID:92069c74-224d-4022-92eb-1ad65c926f46
END:VEVENT
END:VCALENDAR
