BEGIN:VCALENDAR
PRODID:-//github.com/rianjs/ical.net//NONSGML ical.net 4.0//EN
VERSION:2.0
BEGIN:VEVENT
DESCRIPTION:Arbeidernes dag
DTEND:20260501T235959
DTSTAMP:20260421T111746Z
DTSTART;VALUE=DATE:20260501
SEQUENCE:0
SUMMARY:Arbeidernes dag
UID:bcef74d5-b0ef-4737-a5b7-1ffc5c0ae6ad
END:VEVENT
END:VCALENDAR
