BEGIN:VCALENDAR
PRODID:-//github.com/rianjs/ical.net//NONSGML ical.net 4.0//EN
VERSION:2.0
BEGIN:VEVENT
DESCRIPTION:Heldagsprøve
DTEND:20210521T000000
DTSTAMP:20260423T153454Z
DTSTART:20210519T000000
SEQUENCE:0
SUMMARY:Heldagsprøve
UID:b8bc9ec8-58a8-4e54-9a0d-bc463da07c5e
END:VEVENT
END:VCALENDAR
